BEGIN:VCALENDAR
VERSION:2.0
PRODID:-//time.you/holidays//NONSGML v1.0//EN
BEGIN:VEVENT
UID:c707ce79-99ea-44a4-9a66-4bd0f82f108b
DTSTAMP:20260419T210657Z
DTSTART;VALUE=DATE:20260410
SUMMARY:Good Friday (Serbia)
END:VEVENT
END:VCALENDAR