BEGIN:VCALENDAR
VERSION:2.0
PRODID:-//time.you/holidays//NONSGML v1.0//EN
BEGIN:VEVENT
UID:f63ae8f8-cb5a-4e97-9221-58aa865d72ce
DTSTAMP:20260421T133550Z
DTSTART;VALUE=DATE:20261101
SUMMARY:All Saints' Day (Seychelles)
END:VEVENT
END:VCALENDAR