BEGIN:VCALENDAR
VERSION:2.0
PRODID:-//time.you/holidays//NONSGML v1.0//EN
BEGIN:VEVENT
UID:cb7ce363-5fcf-4422-b33e-36b3366a9ee0
DTSTAMP:20260424T160219Z
DTSTART;VALUE=DATE:20260815
SUMMARY:Assumption Day (Seychelles)
END:VEVENT
END:VCALENDAR