BEGIN:VCALENDAR
VERSION:2.0
PRODID:-//time.you/holidays//NONSGML v1.0//EN
BEGIN:VEVENT
UID:7c9b1d9c-7426-43e0-992c-f567c95b6a67
DTSTAMP:20260420T012323Z
DTSTART;VALUE=DATE:20260604
SUMMARY:Corpus Christi (Seychelles)
END:VEVENT
END:VCALENDAR