BEGIN:VCALENDAR
VERSION:2.0
PRODID:-//time.you/holidays//NONSGML v1.0//EN
BEGIN:VEVENT
UID:86a80c85-0e59-419a-b742-a256033b8947
DTSTAMP:20260424T122232Z
DTSTART;VALUE=DATE:20310630
SUMMARY:Independence (National) Day (observed) (Seychelles)
END:VEVENT
END:VCALENDAR