BEGIN:VCALENDAR
VERSION:2.0
PRODID:-//time.you/holidays//NONSGML v1.0//EN
BEGIN:VEVENT
UID:fe7b3168-e623-4a8d-9b28-dc315247c039
DTSTAMP:20260421T183357Z
DTSTART;VALUE=DATE:20260629
SUMMARY:Independence (National) Day (Seychelles)
END:VEVENT
END:VCALENDAR