BEGIN:VCALENDAR
VERSION:2.0
PRODID:-//time.you/holidays//NONSGML v1.0//EN
BEGIN:VEVENT
UID:87bc56aa-f454-4497-b1bf-20d7fba3fd20
DTSTAMP:20260421T192800Z
DTSTART;VALUE=DATE:20330502
SUMMARY:Labor Day (observed) (Seychelles)
END:VEVENT
END:VCALENDAR