BEGIN:VCALENDAR
VERSION:2.0
PRODID:-//time.you/holidays//NONSGML v1.0//EN
BEGIN:VEVENT
UID:8ff372a3-a831-4724-9b3c-40c55ae9487e
DTSTAMP:20260420T125156Z
DTSTART;VALUE=DATE:20261228
SUMMARY:Boxing Day (observed) (Sierra Leone)
END:VEVENT
END:VCALENDAR