BEGIN:VCALENDAR
VERSION:2.0
PRODID:-//time.you/holidays//NONSGML v1.0//EN
BEGIN:VEVENT
UID:36441032-94d7-4c0b-9ce1-efbddec98b73
DTSTAMP:20260424T034259Z
DTSTART;VALUE=DATE:20271227
SUMMARY:Christmas Day (observed) (Sierra Leone)
END:VEVENT
END:VCALENDAR