BEGIN:VCALENDAR
VERSION:2.0
PRODID:-//time.you/holidays//NONSGML v1.0//EN
BEGIN:VEVENT
UID:ac71a2a9-1c03-473f-b998-fd475e30f96c
DTSTAMP:20260422T070650Z
DTSTART;VALUE=DATE:20270517
SUMMARY:Eid al-Adha (observed, estimated) (Sierra Leone)
END:VEVENT
END:VCALENDAR