BEGIN:VCALENDAR
VERSION:2.0
PRODID:-//time.you/holidays//NONSGML v1.0//EN
BEGIN:VEVENT
UID:98695a66-fefb-43da-9918-b081367f41cd
DTSTAMP:20260421T204911Z
DTSTART;VALUE=DATE:20260320
SUMMARY:Eid al-Fitr (estimated) (Sierra Leone)
END:VEVENT
END:VCALENDAR