BEGIN:VCALENDAR
VERSION:2.0
PRODID:-//time.you/holidays//NONSGML v1.0//EN
BEGIN:VEVENT
UID:ed644653-20a8-4eb0-90fe-5c0eb4581a14
DTSTAMP:20260422T073114Z
DTSTART;VALUE=DATE:20280228
SUMMARY:Eid al-Fitr (observed, estimated) (Sierra Leone)
END:VEVENT
END:VCALENDAR