BEGIN:VCALENDAR
VERSION:2.0
PRODID:-//time.you/holidays//NONSGML v1.0//EN
BEGIN:VEVENT
UID:5a6576d0-e91e-4998-97f5-c6d4bf7140b4
DTSTAMP:20260425T105859Z
DTSTART;VALUE=DATE:20240410
SUMMARY:Eid al-Fitr (Sierra Leone)
END:VEVENT
END:VCALENDAR