BEGIN:VCALENDAR
VERSION:2.0
PRODID:-//time.you/holidays//NONSGML v1.0//EN
BEGIN:VEVENT
UID:f456fac4-7e24-42ec-a822-bfcc825adfd2
DTSTAMP:20260425T004056Z
DTSTART;VALUE=DATE:20260403
SUMMARY:Good Friday (Sierra Leone)
END:VEVENT
END:VCALENDAR