BEGIN:VCALENDAR
VERSION:2.0
PRODID:-//time.you/holidays//NONSGML v1.0//EN
BEGIN:VEVENT
UID:7ed7fa24-580f-464a-ac31-9fe97d3961fa
DTSTAMP:20260421T154940Z
DTSTART;VALUE=DATE:20260101
SUMMARY:New Year's Day (Sierra Leone)
END:VEVENT
END:VCALENDAR