BEGIN:VCALENDAR
VERSION:2.0
PRODID:-//time.you/holidays//NONSGML v1.0//EN
BEGIN:VEVENT
UID:9715bbb0-5c5a-4fad-bf3f-b8162441c8d8
DTSTAMP:20260423T185632Z
DTSTART;VALUE=DATE:20260825
SUMMARY:Prophet's Birthday (estimated) (Sierra Leone)
END:VEVENT
END:VCALENDAR