BEGIN:VCALENDAR
VERSION:2.0
PRODID:-//time.you/holidays//NONSGML v1.0//EN
BEGIN:VEVENT
UID:73a3ac9c-3043-471c-b1ed-de811fd06e5b
DTSTAMP:20260422T073111Z
DTSTART;VALUE=DATE:20270816
SUMMARY:Prophet's Birthday (observed, estimated) (Sierra Leone)
END:VEVENT
END:VCALENDAR