BEGIN:VCALENDAR
VERSION:2.0
PRODID:-//time.you/holidays//NONSGML v1.0//EN
BEGIN:VEVENT
UID:94ecda11-000a-4c50-8e35-bcb40644878d
DTSTAMP:20260424T053247Z
DTSTART;VALUE=DATE:20240916
SUMMARY:Prophet's Birthday (observed) (Sierra Leone)
END:VEVENT
END:VCALENDAR