BEGIN:VCALENDAR
VERSION:2.0
PRODID:-//time.you/holidays//NONSGML v1.0//EN
BEGIN:VEVENT
UID:fdd0f398-f8fb-452b-81fa-e9ab2a6037f4
DTSTAMP:20260422T070307Z
DTSTART;VALUE=DATE:20260217
SUMMARY:Chinese New Year (Singapore)
END:VEVENT
END:VCALENDAR