BEGIN:VCALENDAR
VERSION:2.0
PRODID:-//time.you/holidays//NONSGML v1.0//EN
BEGIN:VEVENT
UID:bb9efc37-e288-4d56-aad0-3b177296087c
DTSTAMP:20260423T141750Z
DTSTART;VALUE=DATE:20261109
SUMMARY:Deepavali (observed) (Singapore)
END:VEVENT
END:VCALENDAR