BEGIN:VCALENDAR
VERSION:2.0
PRODID:-//time.you/holidays//NONSGML v1.0//EN
BEGIN:VEVENT
UID:501d3350-ab6a-4615-a243-5229a8934cf3
DTSTAMP:20260421T194423Z
DTSTART;VALUE=DATE:20270517
SUMMARY:Eid al-Adha (observed, estimated) (Singapore)
END:VEVENT
END:VCALENDAR