BEGIN:VCALENDAR
VERSION:2.0
PRODID:-//time.you/holidays//NONSGML v1.0//EN
BEGIN:VEVENT
UID:18868a05-32dc-49e0-8fcc-e2b5f4a3fba2
DTSTAMP:20260421T184134Z
DTSTART;VALUE=DATE:20220711
SUMMARY:Eid al-Adha (observed) (Singapore)
END:VEVENT
END:VCALENDAR