BEGIN:VCALENDAR
VERSION:2.0
PRODID:-//time.you/holidays//NONSGML v1.0//EN
BEGIN:VEVENT
UID:981eaf44-261a-463d-8e19-4c76f5c3f0e2
DTSTAMP:20260422T022614Z
DTSTART;VALUE=DATE:20260527
SUMMARY:Eid al-Adha (Singapore)
END:VEVENT
END:VCALENDAR