BEGIN:VCALENDAR
VERSION:2.0
PRODID:-//time.you/holidays//NONSGML v1.0//EN
BEGIN:VEVENT
UID:4655a19e-0e7f-455e-a943-e1953f1d4b5f
DTSTAMP:20260421T205123Z
DTSTART;VALUE=DATE:20270309
SUMMARY:Eid al-Fitr (estimated) (Singapore)
END:VEVENT
END:VCALENDAR