BEGIN:VCALENDAR
VERSION:2.0
PRODID:-//time.you/holidays//NONSGML v1.0//EN
BEGIN:VEVENT
UID:f3d2cb0b-ebb1-482d-ba5e-334ec2d5c0a0
DTSTAMP:20260422T010938Z
DTSTART;VALUE=DATE:20330502
SUMMARY:Labor Day (observed) (Singapore)
END:VEVENT
END:VCALENDAR