BEGIN:VCALENDAR
VERSION:2.0
PRODID:-//time.you/holidays//NONSGML v1.0//EN
BEGIN:VEVENT
UID:eeb270b4-9078-4963-92dc-d0ad91bcd015
DTSTAMP:20260422T011049Z
DTSTART;VALUE=DATE:20260810
SUMMARY:National Day (observed) (Singapore)
END:VEVENT
END:VCALENDAR