BEGIN:VCALENDAR
VERSION:2.0
PRODID:-//time.you/holidays//NONSGML v1.0//EN
BEGIN:VEVENT
UID:9ff75a7e-ea37-441f-b096-50d5671ff143
DTSTAMP:20260423T095439Z
DTSTART;VALUE=DATE:20250503
SUMMARY:Polling Day (Singapore)
END:VEVENT
END:VCALENDAR