BEGIN:VCALENDAR
VERSION:2.0
PRODID:-//time.you/holidays//NONSGML v1.0//EN
BEGIN:VEVENT
UID:d7345b40-17fd-4b87-b012-2d772d5654a2
DTSTAMP:20260420T064751Z
DTSTART;VALUE=DATE:20260514
SUMMARY:Ascension Day (Sint Maarten (Dutch part))
END:VEVENT
END:VCALENDAR