BEGIN:VCALENDAR
VERSION:2.0
PRODID:-//time.you/holidays//NONSGML v1.0//EN
BEGIN:VEVENT
UID:6295b176-d56e-4cc0-9151-0436479f5110
DTSTAMP:20260420T084651Z
DTSTART;VALUE=DATE:20260430
SUMMARY:Carnival Day (Sint Maarten (Dutch part))
END:VEVENT
END:VCALENDAR