BEGIN:VCALENDAR
VERSION:2.0
PRODID:-//time.you/holidays//NONSGML v1.0//EN
BEGIN:VEVENT
UID:36aedfa3-0e9e-4918-9e21-657a9a14b84e
DTSTAMP:20260424T143811Z
DTSTART;VALUE=DATE:20261012
SUMMARY:Constitution Day (Sint Maarten (Dutch part))
END:VEVENT
END:VCALENDAR