BEGIN:VCALENDAR
VERSION:2.0
PRODID:-//time.you/holidays//NONSGML v1.0//EN
BEGIN:VEVENT
UID:0a62a888-0cd6-4da7-abf1-232ecb211b13
DTSTAMP:20260420T125205Z
DTSTART;VALUE=DATE:20260406
SUMMARY:Easter Monday (Sint Maarten (Dutch part))
END:VEVENT
END:VCALENDAR