BEGIN:VCALENDAR
VERSION:2.0
PRODID:-//time.you/holidays//NONSGML v1.0//EN
BEGIN:VEVENT
UID:52c35f6d-5a9b-4d48-aa90-8b95eabed2fd
DTSTAMP:20260420T062544Z
DTSTART;VALUE=DATE:20260101
SUMMARY:New Year's Day (Sint Maarten (Dutch part))
END:VEVENT
END:VCALENDAR