BEGIN:VCALENDAR
VERSION:2.0
PRODID:-//time.you/holidays//NONSGML v1.0//EN
BEGIN:VEVENT
UID:eef5192a-e3c8-4fea-8092-618dca21b323
DTSTAMP:20260420T021752Z
DTSTART;VALUE=DATE:20261226
SUMMARY:Second Day of Christmas (Sint Maarten (Dutch part))
END:VEVENT
END:VCALENDAR