BEGIN:VCALENDAR
VERSION:2.0
PRODID:-//time.you/holidays//NONSGML v1.0//EN
BEGIN:VEVENT
UID:1d93c46f-8969-49f8-96e3-dd72c6b155bf
DTSTAMP:20260422T051749Z
DTSTART;VALUE=DATE:20261111
SUMMARY:Sint Maarten Day (Sint Maarten (Dutch part))
END:VEVENT
END:VCALENDAR