BEGIN:VCALENDAR
VERSION:2.0
PRODID:-//time.you/holidays//NONSGML v1.0//EN
BEGIN:VEVENT
UID:06325190-394e-4745-99ec-66cd37bccca2
DTSTAMP:20260422T113858Z
DTSTART;VALUE=DATE:20260524
SUMMARY:Whit Sunday (Sint Maarten (Dutch part))
END:VEVENT
END:VCALENDAR