BEGIN:VCALENDAR
VERSION:2.0
PRODID:-//time.you/holidays//NONSGML v1.0//EN
BEGIN:VEVENT
UID:818d345e-77a0-4608-831f-6042869751ab
DTSTAMP:20260422T100541Z
DTSTART;VALUE=DATE:20261101
SUMMARY:All Saints' Day (Slovakia)
END:VEVENT
END:VCALENDAR