BEGIN:VCALENDAR
VERSION:2.0
PRODID:-//time.you/holidays//NONSGML v1.0//EN
BEGIN:VEVENT
UID:85d98954-7201-4969-a91c-fa0e5704cfb3
DTSTAMP:20260422T020148Z
DTSTART;VALUE=DATE:20261225
SUMMARY:Christmas Day (Slovakia)
END:VEVENT
END:VCALENDAR