BEGIN:VCALENDAR
VERSION:2.0
PRODID:-//time.you/holidays//NONSGML v1.0//EN
BEGIN:VEVENT
UID:60cd5655-5883-4314-bb4f-c54455f8a5b4
DTSTAMP:20260423T123158Z
DTSTART;VALUE=DATE:20230901
SUMMARY:Constitution Day (Slovakia)
END:VEVENT
END:VCALENDAR