BEGIN:VCALENDAR
VERSION:2.0
PRODID:-//time.you/holidays//NONSGML v1.0//EN
BEGIN:VEVENT
UID:dd3633f4-1e32-4b71-90f4-70214d8dd84b
DTSTAMP:20260422T030705Z
DTSTART;VALUE=DATE:20270915
SUMMARY:Day of Our Lady of the Seven Sorrows (Slovakia)
END:VEVENT
END:VCALENDAR