BEGIN:VCALENDAR
VERSION:2.0
PRODID:-//time.you/holidays//NONSGML v1.0//EN
BEGIN:VEVENT
UID:198ea455-b345-41ba-9fbb-54623d2ac54b
DTSTAMP:20260422T041234Z
DTSTART;VALUE=DATE:20261226
SUMMARY:Second Day of Christmas (Slovakia)
END:VEVENT
END:VCALENDAR