BEGIN:VCALENDAR
VERSION:2.0
PRODID:-//time.you/holidays//NONSGML v1.0//EN
BEGIN:VEVENT
UID:08bdfe28-e3f8-4559-8f68-1182fe4362e2
DTSTAMP:20260422T071445Z
DTSTART;VALUE=DATE:20241117
SUMMARY:Struggle for Freedom and Democracy Day (Slovakia)
END:VEVENT
END:VCALENDAR