BEGIN:VCALENDAR
VERSION:2.0
PRODID:-//time.you/holidays//NONSGML v1.0//EN
BEGIN:VEVENT
UID:8a16cf7d-ece0-4c61-9a1d-ba83a031367e
DTSTAMP:20260422T130835Z
DTSTART;VALUE=DATE:20260427
SUMMARY:Day of Uprising Against Occupation (Slovenia)
END:VEVENT
END:VCALENDAR