BEGIN:VCALENDAR
VERSION:2.0
PRODID:-//time.you/holidays//NONSGML v1.0//EN
BEGIN:VEVENT
UID:dd7205ff-a1a2-4747-9a1e-9d1c49ab8b39
DTSTAMP:20260422T004343Z
DTSTART;VALUE=DATE:20260406
SUMMARY:Easter Monday (Slovenia)
END:VEVENT
END:VCALENDAR