BEGIN:VCALENDAR
VERSION:2.0
PRODID:-//time.you/holidays//NONSGML v1.0//EN
BEGIN:VEVENT
UID:1a0f9ca6-9909-44eb-a31c-7f28b16ac49b
DTSTAMP:20260422T023053Z
DTSTART;VALUE=DATE:20260405
SUMMARY:Easter Sunday (Slovenia)
END:VEVENT
END:VCALENDAR