BEGIN:VCALENDAR
VERSION:2.0
PRODID:-//time.you/holidays//NONSGML v1.0//EN
BEGIN:VEVENT
UID:b8c8e2d2-7875-4ac4-98dc-e072630e3fe7
DTSTAMP:20260421T204157Z
DTSTART;VALUE=DATE:20260501
SUMMARY:Labor Day (Slovenia)
END:VEVENT
END:VCALENDAR