BEGIN:VCALENDAR
VERSION:2.0
PRODID:-//time.you/holidays//NONSGML v1.0//EN
BEGIN:VEVENT
UID:0317e758-88bb-4845-8b4a-b0c3d8600c81
DTSTAMP:20260420T125056Z
DTSTART;VALUE=DATE:20260524
SUMMARY:Whit Sunday (Slovenia)
END:VEVENT
END:VCALENDAR