BEGIN:VCALENDAR
VERSION:2.0
PRODID:-//time.you/holidays//NONSGML v1.0//EN
BEGIN:VEVENT
UID:b15470b7-241b-40c1-b721-8a2ca4495898
DTSTAMP:20260421T191459Z
DTSTART;VALUE=DATE:20260629
SUMMARY:Central Province Day (Solomon Islands)
END:VEVENT
END:VCALENDAR