BEGIN:VCALENDAR
VERSION:2.0
PRODID:-//time.you/holidays//NONSGML v1.0//EN
BEGIN:VEVENT
UID:a8688d2c-621d-40f3-a210-09fb7c1d2ee3
DTSTAMP:20260421T223923Z
DTSTART;VALUE=DATE:20290226
SUMMARY:Choiseul Province Day (observed) (Solomon Islands)
END:VEVENT
END:VCALENDAR