BEGIN:VCALENDAR
VERSION:2.0
PRODID:-//time.you/holidays//NONSGML v1.0//EN
BEGIN:VEVENT
UID:9e382c2e-7175-444b-b9c8-0df468aaa712
DTSTAMP:20260422T070928Z
DTSTART;VALUE=DATE:20260225
SUMMARY:Choiseul Province Day (Solomon Islands)
END:VEVENT
END:VCALENDAR