BEGIN:VCALENDAR
VERSION:2.0
PRODID:-//time.you/holidays//NONSGML v1.0//EN
BEGIN:VEVENT
UID:e8b40798-8137-4eab-852a-f19a745851ef
DTSTAMP:20260421T155856Z
DTSTART;VALUE=DATE:20271227
SUMMARY:Christmas Day (observed) (Solomon Islands)
END:VEVENT
END:VCALENDAR